BEGIN:VCALENDAR
PRODID:-//AT Content Types//AT Event//EN
VERSION:2.0
METHOD:PUBLISH
BEGIN:VEVENT
DTSTAMP:20260422T100039Z
CREATED:20190307T154453Z
UID:ATEvent-1aac04ae12e64797987f50bd05154ef8
LAST-MODIFIED:20190404T111806Z
SUMMARY:Professional drop in session (Burntwood WPDC)
DTSTART:20190321T160000Z
DTEND:20190321T173000Z
CLASS:PUBLIC
END:VEVENT
END:VCALENDAR
