BEGIN:VCALENDAR
PRODID:-//AT Content Types//AT Event//EN
VERSION:2.0
METHOD:PUBLISH
BEGIN:VEVENT
DTSTAMP:20260422T095756Z
CREATED:20190307T154453Z
UID:ATEvent-c04b1f2bf4f245d5861a2139a808e432
LAST-MODIFIED:20190404T111806Z
SUMMARY:Professional drop in session (Burntwood WPDC)
DTSTART:20190321T140000Z
DTEND:20190321T153000Z
CLASS:PUBLIC
END:VEVENT
END:VCALENDAR
