BEGIN:VCALENDAR
PRODID:-//AT Content Types//AT Event//EN
VERSION:2.0
METHOD:PUBLISH
BEGIN:VEVENT
DTSTAMP:20260422T095628Z
CREATED:20190307T154802Z
UID:ATEvent-359615a0bba947d582bc2651073d007c
LAST-MODIFIED:20190404T111806Z
SUMMARY:Parent drop in session (Yvonne Carr Childrens Centre)
DTSTART:20190325T123000Z
DTEND:20190325T140000Z
DESCRIPTION:Yvonne Carr Childrens Centre\nThessaly Road
CLASS:PUBLIC
END:VEVENT
END:VCALENDAR
