BEGIN:VCALENDAR
PRODID:-//AT Content Types//AT Event//EN
VERSION:2.0
METHOD:PUBLISH
BEGIN:VEVENT
DTSTAMP:20260422T100057Z
CREATED:20190307T154802Z
UID:ATEvent-13eea4bcbe7b4d05b9a84ef3fec7853b
LAST-MODIFIED:20190404T111806Z
SUMMARY:Parent drop in session (The Early Years Centre)
DTSTART:20190330T100000Z
DTEND:20190330T113000Z
DESCRIPTION:The Early Years Centre\n1 Siward Road
CLASS:PUBLIC
END:VEVENT
END:VCALENDAR
