BEGIN:VCALENDAR
PRODID:-//AT Content Types//AT Event//EN
VERSION:2.0
METHOD:PUBLISH
BEGIN:VEVENT
DTSTAMP:20260422T100210Z
CREATED:20190307T154802Z
UID:ATEvent-0730a5343c2d4769bc0895852c9ccb0f
LAST-MODIFIED:20190404T111806Z
SUMMARY:Parent drop in session (The Early Years Centre)
DTSTART:20190322T103000Z
DTEND:20190322T120000Z
DESCRIPTION:The Early Years Centre\n1 Siward Road
CLASS:PUBLIC
END:VEVENT
END:VCALENDAR
