BEGIN:VCALENDAR
PRODID:-//AT Content Types//AT Event//EN
VERSION:2.0
METHOD:PUBLISH
BEGIN:VEVENT
DTSTAMP:20260422T100227Z
CREATED:20190307T154802Z
UID:ATEvent-6b9e6927b8724cbb976070dfb672c792
LAST-MODIFIED:20190404T111806Z
SUMMARY:Parent drop in session (The Early Years Centre)
DTSTART:20190319T183000Z
DTEND:20190319T200000Z
DESCRIPTION:The Early Years Centre\n1 Siward Road
CLASS:PUBLIC
END:VEVENT
END:VCALENDAR
