BEGIN:VCALENDAR
PRODID:-//AT Content Types//AT Event//EN
VERSION:2.0
METHOD:PUBLISH
BEGIN:VEVENT
DTSTAMP:20260422T095628Z
CREATED:20190307T154453Z
UID:ATEvent-389c2395f6e94979abe7a264e68cb172
LAST-MODIFIED:20190404T111805Z
SUMMARY:Parent drop in session (Eastwood Children’s Centre)
DTSTART:20190318T133000Z
DTEND:20190318T150000Z
DESCRIPTION:Eastwood Children’s Centre\n168 Roehampton Lane
CLASS:PUBLIC
END:VEVENT
END:VCALENDAR
