BEGIN:VCALENDAR
PRODID:-//AT Content Types//AT Event//EN
VERSION:2.0
METHOD:PUBLISH
BEGIN:VEVENT
DTSTAMP:20260422T114649Z
CREATED:20180302T165101Z
UID:ATEvent-90c2042c13cc3df6704aee3aab245744
LAST-MODIFIED:20180305T142828Z
SUMMARY:Public meeting - Proposed Public Spaces Protection Order - Patmore Estate and surrounding area
DTSTART:20180315T183000Z
DTEND:20180315T203000Z
DESCRIPTION:Committee Room\, Trevithick House\, Deeley Road\, London S
 W8 4XW
CLASS:PUBLIC
END:VEVENT
END:VCALENDAR
