BEGIN:VCALENDAR
PRODID:-//AT Content Types//AT Event//EN
VERSION:2.0
METHOD:PUBLISH
BEGIN:VEVENT
DTSTAMP:20260422T171944Z
CREATED:20181011T120130Z
UID:ATEvent-1196fe1a8d5f53af651a3707761dc2d8
LAST-MODIFIED:20181012T094851Z
SUMMARY:Community Conversation at the Clarendon Hall\, Twickenham
DTSTART:20181015T173000Z
DTEND:20181015T193000Z
DESCRIPTION:You are invited to attend this open event to discuss your 
 views with a panel of ward councillors.
CLASS:PUBLIC
END:VEVENT
END:VCALENDAR
