BEGIN:VCALENDAR
PRODID:-//AT Content Types//AT Event//EN
VERSION:2.0
METHOD:PUBLISH
BEGIN:VEVENT
DTSTAMP:20260420T082554Z
CREATED:20140715T135053Z
UID:ATEvent-89845e6ac0809396b3c3b9fbd2cfcd40
LAST-MODIFIED:20171130T144624Z
SUMMARY:Drop-in session
DTSTART:20140720T090000Z
DTEND:20140720T150000Z
DESCRIPTION:This session will enable you to see an exhibition on the p
 roposals and to discuss them with the design team. \n\nLocation: Stabl
 es\, Orleans House
CLASS:PUBLIC
END:VEVENT
END:VCALENDAR
