BEGIN:VCALENDAR
PRODID:-//AT Content Types//AT Event//EN
VERSION:2.0
METHOD:PUBLISH
BEGIN:VEVENT
DTSTAMP:20260420T123243Z
CREATED:20140724T153309Z
UID:ATEvent-dbf7e7b107d1d93ca7d4211f10404c09
LAST-MODIFIED:20171130T144623Z
SUMMARY:Drop-in session
DTSTART:20140718T090000Z
DTEND:20140718T150000Z
DESCRIPTION:This session will enable you to see an exhibition on the p
 roposals and to discuss them with the design team.
CLASS:PUBLIC
END:VEVENT
END:VCALENDAR
