BEGIN:VCALENDAR
PRODID:-//AT Content Types//AT Event//EN
VERSION:2.0
METHOD:PUBLISH
BEGIN:VEVENT
DTSTAMP:20260422T095930Z
CREATED:20190315T082427Z
UID:ATEvent-d962e25356ff48d2b86687919bbf6260
LAST-MODIFIED:20190405T140027Z
SUMMARY:Twickenham School Drop-in
DTSTART:20190404T160000Z
DTEND:20190404T190000Z
DESCRIPTION:Percy Road\nTwickenham\nTW2 6JW
CLASS:PUBLIC
END:VEVENT
END:VCALENDAR
