BEGIN:VCALENDAR
PRODID:-//AT Content Types//AT Event//EN
VERSION:2.0
METHOD:PUBLISH
BEGIN:VEVENT
DTSTAMP:20260422T095629Z
CREATED:20190311T084623Z
UID:ATEvent-3a10198f2bcc4d8aa2dbdcf81bb3950a
LAST-MODIFIED:20190405T140027Z
SUMMARY:The Exchange Drop-in
DTSTART:20190403T160000Z
DTEND:20190403T190000Z
DESCRIPTION:75 London Road\nTwickenham\nTW1 1BE\n\n\nWards covered:\n\
 n- Twickenham Riverside\n- St Margarets & North Twickenham\n- West Twi
 ckenham
CLASS:PUBLIC
END:VEVENT
END:VCALENDAR
