BEGIN:VCALENDAR
PRODID:-//AT Content Types//AT Event//EN
VERSION:2.0
METHOD:PUBLISH
BEGIN:VEVENT
DTSTAMP:20260422T100057Z
CREATED:20190311T084449Z
UID:ATEvent-9a4609f6406c47769be207642e21f461
LAST-MODIFIED:20190405T140027Z
SUMMARY:Bullen Hall Drop-in
DTSTART:20190328T170000Z
DTEND:20190328T200000Z
DESCRIPTION:Bennet Close\, \nHampton Wick\nKT1 4AT\n\n\nWards covered:
 \n\n- Hampton Wick\n- Teddington
CLASS:PUBLIC
END:VEVENT
END:VCALENDAR
