BEGIN:VCALENDAR
PRODID:-//AT Content Types//AT Event//EN
VERSION:2.0
METHOD:PUBLISH
BEGIN:VEVENT
DTSTAMP:20260422T185040Z
CREATED:20180905T112437Z
UID:ATEvent-40f06c46ced371418e5e843c9352179b
LAST-MODIFIED:20180924T114245Z
SUMMARY:Community Conversation Event - Twickenham
DTSTART:20181210T183000Z
DTEND:20181210T200000Z
DESCRIPTION:Twickenham United Reformed Church\, First Cross Road\nTwic
 kenham TW2 5QA
CLASS:PUBLIC
END:VEVENT
END:VCALENDAR
