BEGIN:VCALENDAR
PRODID:-//AT Content Types//AT Event//EN
VERSION:2.0
METHOD:PUBLISH
BEGIN:VEVENT
DTSTAMP:20260422T185337Z
CREATED:20180905T112639Z
UID:ATEvent-de8bbca4555c66c05a0171a6fa1b7f1f
LAST-MODIFIED:20180924T114246Z
SUMMARY:Community Conversation Event - Teddington
DTSTART:20181105T183000Z
DTEND:20181105T200000Z
DESCRIPTION:Teddington Methodist Church & Community Centre\nTeddington
  TW11 8TP
CLASS:PUBLIC
END:VEVENT
END:VCALENDAR
