BEGIN:VCALENDAR
PRODID:-//AT Content Types//AT Event//EN
VERSION:2.0
METHOD:PUBLISH
BEGIN:VEVENT
DTSTAMP:20260422T185338Z
CREATED:20180905T112438Z
UID:ATEvent-cba7981913558ca696e997d0e8ef5c82
LAST-MODIFIED:20180924T114246Z
SUMMARY:Community Conversation Event - Richmond
DTSTART:20181101T183000Z
DTEND:20181101T200000Z
DESCRIPTION:RHACC Parkshot Campus \nRichmond TW9 2RE
CLASS:PUBLIC
END:VEVENT
END:VCALENDAR
