BEGIN:VCALENDAR
PRODID:-//AT Content Types//AT Event//EN
VERSION:2.0
METHOD:PUBLISH
BEGIN:VEVENT
DTSTAMP:20260422T184629Z
CREATED:20180905T112438Z
UID:ATEvent-bd0aa51e8b0886dc46dbe155b477124d
LAST-MODIFIED:20180924T114246Z
SUMMARY:Community Conversation Event - Twickenham
DTSTART:20181015T173000Z
DTEND:20181015T190000Z
DESCRIPTION:Clarendon Hall\, York House\nTwickenham TW1 3AA
CLASS:PUBLIC
END:VEVENT
END:VCALENDAR
