BEGIN:VCALENDAR
PRODID:-//AT Content Types//AT Event//EN
VERSION:2.0
METHOD:PUBLISH
BEGIN:VEVENT
DTSTAMP:20260422T184812Z
CREATED:20180905T112438Z
UID:ATEvent-8aefbaa27788c1182071a0667349adda
LAST-MODIFIED:20180924T114246Z
SUMMARY:Community Conversation Event - Richmond
DTSTART:20181119T183000Z
DTEND:20181119T200000Z
DESCRIPTION:Kew Community Centre (Avenue Centre)\nRichmond TW9 2AJ
CLASS:PUBLIC
END:VEVENT
END:VCALENDAR
