BEGIN:VCALENDAR
PRODID:-//AT Content Types//AT Event//EN
VERSION:2.0
METHOD:PUBLISH
BEGIN:VEVENT
DTSTAMP:20260422T185317Z
CREATED:20180905T112438Z
UID:ATEvent-3e361d1ef1d7834fe28cb4b78215419c
LAST-MODIFIED:20180924T114246Z
SUMMARY:Community Conversation Event - Ham
DTSTART:20181114T183000Z
DTEND:20181114T200000Z
DESCRIPTION:Grey Court School\, Ham Street\nHam TW10 7HN
CLASS:PUBLIC
END:VEVENT
END:VCALENDAR
