BEGIN:VCALENDAR
PRODID:-//AT Content Types//AT Event//EN
VERSION:2.0
METHOD:PUBLISH
BEGIN:VEVENT
DTSTAMP:20260422T184812Z
CREATED:20180905T112437Z
UID:ATEvent-8520cee2533cfeb1c5ba1f48830575df
LAST-MODIFIED:20180924T114246Z
SUMMARY:Community Conversation Event - Whitton
DTSTART:20181129T183000Z
DTEND:20181129T200000Z
DESCRIPTION:Whitton Community Centre\, Percy Road\nWhitton TW2 6JL
CLASS:PUBLIC
END:VEVENT
END:VCALENDAR
