BEGIN:VCALENDAR
PRODID:-//AT Content Types//AT Event//EN
VERSION:2.0
METHOD:PUBLISH
BEGIN:VEVENT
DTSTAMP:20260422T185210Z
CREATED:20180905T112437Z
UID:ATEvent-c94f00aa2fec4265f1ea3fef23544a4f
LAST-MODIFIED:20180924T114246Z
SUMMARY:Community Conversation Event - Mortlake
DTSTART:20181212T183000Z
DTEND:20181212T200000Z
DESCRIPTION:Mortlake Scout Group Hut\, Alder Road \nLondon SW14 8ER
CLASS:PUBLIC
END:VEVENT
END:VCALENDAR
