BEGIN:VCALENDAR
PRODID:-//AT Content Types//AT Event//EN
VERSION:2.0
METHOD:PUBLISH
BEGIN:VEVENT
DTSTAMP:20260425T210607Z
CREATED:20160114T225116Z
UID:ATEvent-61e7fdced2d50c82d8ea6775576fd846
LAST-MODIFIED:20171130T145942Z
SUMMARY:Hampton Wick and Riverside Drop-in\, 10am to 4pm
DTSTART:20160611T090000Z
DTEND:20160611T150000Z
DESCRIPTION:An opportunity to meet the village planning team and share
  your thoughts on your local village plan.\n\nWhen: Saturday 11 June 2
 016 10:00 to 16:00\n \nWhere: St John’s Church Warehouse\, Church Gr
 ove\, Hampton Wick\, London\, KT1 4AL
CLASS:PUBLIC
END:VEVENT
END:VCALENDAR
