BEGIN:VCALENDAR
PRODID:-//AT Content Types//AT Event//EN
VERSION:2.0
METHOD:PUBLISH
BEGIN:VEVENT
DTSTAMP:20260425T193542Z
CREATED:20160114T225116Z
UID:ATEvent-9be1ab69b22ca4cf58e7d730d664cd84
LAST-MODIFIED:20171130T145942Z
SUMMARY:Teddington Walkabout 2\, 2pm to 4pm
DTSTART:20160522T130000Z
DTEND:20160522T150000Z
DESCRIPTION:An opportunity to walk around your area with the village p
 lanning team and share your thoughts on your local village plan\n\nWhe
 n: Sunday 22 June 2016 14:00 to 16:00\n\nWhere: Meeting point outside 
 Boots\, 59 Broad St\, Teddington\,  TW11 8QZ\n\nPlease book your space
  on the walkabout by emailing allinone@richmond.gov.uk to tell us whic
 h area your would like to cover in the walkabout
CLASS:PUBLIC
END:VEVENT
END:VCALENDAR
