BEGIN:VCALENDAR
PRODID:-//AT Content Types//AT Event//EN
VERSION:2.0
METHOD:PUBLISH
BEGIN:VEVENT
DTSTAMP:20260425T210403Z
CREATED:20160114T225116Z
UID:ATEvent-93911b9c383a5f373f872fb2e186a776
LAST-MODIFIED:20171130T145942Z
SUMMARY:Hampton Wick  and Riverside Walkabout 2\, 2pm to 4pm
DTSTART:20160619T130000Z
DTEND:20160619T150000Z
DESCRIPTION:An opportunity to walk around your area with the village p
 lanning team and share your thoughts on your local village plan\n\nWhe
 n: Sunday 19 June 2016 11am to 1pm \n\nWhere: Meeting point at the jun
 ction of Langdon Park and Kingston Road.\n\nPlease book your space on 
 the walkabout by emailing allinone@richmond.gov.uk to tell us which ar
 ea your would like to cover in the walkabout
CLASS:PUBLIC
END:VEVENT
END:VCALENDAR
