BEGIN:VCALENDAR
PRODID:-//AT Content Types//AT Event//EN
VERSION:2.0
METHOD:PUBLISH
BEGIN:VEVENT
DTSTAMP:20260425T193548Z
CREATED:20160114T225116Z
UID:ATEvent-5a2c9450f138d648b10035e082c100ee
LAST-MODIFIED:20171130T145942Z
SUMMARY:Hampton Wick and Riverside Walkabout 1\, 11am to 1pm
DTSTART:20160619T100000Z
DTEND:20160619T120000Z
DESCRIPTION:An opportunity to walk around your area with the village p
 lanning team and share your thoughts on your local village plan\n\nWhe
 n: 19 June 11:00 to 13:00\n\nWhere: Meeting point outside Foresters Pu
 b 45 High St\, Hampton Wick\, KT1 4DG\; \n\nPlease book your space on 
 the walkabout by emailing allinone@richmond.gov.uk to tell us which ar
 ea your would like to cover in the walkabout
CLASS:PUBLIC
END:VEVENT
END:VCALENDAR
