BEGIN:VCALENDAR
PRODID:-//AT Content Types//AT Event//EN
VERSION:2.0
METHOD:PUBLISH
BEGIN:VEVENT
DTSTAMP:20260425T193702Z
CREATED:20160519T091556Z
UID:ATEvent-6965b2c4134057381f729b3d46990b25
LAST-MODIFIED:20171130T145942Z
SUMMARY:Teddington Walkabout 1 - 11am to 1pm
DTSTART:20160522T100000Z
DTEND:20160522T120000Z
DESCRIPTION:An opportunity to walk around your area with the village p
 lanning team and share your thoughts on your local village plan\n\nWhe
 n: 22 June 2016 11:00 to 13:00\n\nWhere: Meeting point outside Boots\,
  59 Broad St\, Teddington\,  TW11 8QZ\n\nPlease book your space on the
  walkabout by emailing allinone@richmond.gov.uk to tell us which area 
 your would like to cover in the walkabout
CLASS:PUBLIC
END:VEVENT
END:VCALENDAR
