BEGIN:VCALENDAR
PRODID:-//AT Content Types//AT Event//EN
VERSION:2.0
METHOD:PUBLISH
BEGIN:VEVENT
DTSTAMP:20260425T193451Z
CREATED:20160115T162545Z
UID:ATEvent-5edfcbe95dfbaba687359d75cddad567
LAST-MODIFIED:20171130T145817Z
SUMMARY:#wheresbill
DTSTART:20160119T193000Z
DTEND:20160119T203000Z
DESCRIPTION:Community Links officer Bill will be at tha meeting of the
  Hampton Hill Association\, Greenwood Centre\, Hampton Hill
CLASS:PUBLIC
END:VEVENT
END:VCALENDAR
