BEGIN:VCALENDAR
PRODID:-//AT Content Types//AT Event//EN
VERSION:2.0
METHOD:PUBLISH
BEGIN:VEVENT
DTSTAMP:20260425T193629Z
CREATED:20160115T162545Z
UID:ATEvent-29490ee5aa2e9a01af40934b067ca6b8
LAST-MODIFIED:20171130T145817Z
SUMMARY:#wheresbill
DTSTART:20160120T140000Z
DTEND:20160120T150000Z
DESCRIPTION:Community Links officer Bill will be at the initial meetin
 g of the Greenwood Centre Men’s Club\, Hampton Hill
CLASS:PUBLIC
END:VEVENT
END:VCALENDAR
