BEGIN:VCALENDAR
PRODID:-//AT Content Types//AT Event//EN
VERSION:2.0
METHOD:PUBLISH
BEGIN:VEVENT
DTSTAMP:20260425T193359Z
CREATED:20160114T223507Z
UID:ATEvent-b2a4c617f3d2fec0947a1dc3d42d1c6d
LAST-MODIFIED:20171130T145817Z
SUMMARY:Hampton Hill Walkabout
DTSTART:20160306T110000Z
DTEND:20160306T130000Z
DESCRIPTION:An opportunity to walk around your area with the village p
 lanning team and share your thoughts on your local village plan\n\nWhe
 n:Sunday 6 March 11am-1pm\n\nWhere: Meeting point outside Hampton Hill
  Library\n\nPlease book your space on the walkabout by emailing allino
 ne@richmond.gov.uk to tell us which area your would like to cover in t
 he walkabout
CLASS:PUBLIC
END:VEVENT
END:VCALENDAR
