BEGIN:VCALENDAR
PRODID:-//AT Content Types//AT Event//EN
VERSION:2.0
METHOD:PUBLISH
BEGIN:VEVENT
DTSTAMP:20260425T193256Z
CREATED:20160114T223507Z
UID:ATEvent-f5d052829d6d8072298094a28c154f9d
LAST-MODIFIED:20171130T145817Z
SUMMARY:Hampton Hill Drop-in
DTSTART:20160305T100000Z
DTEND:20160305T160000Z
DESCRIPTION:An opportunity to meet the village planning team and share
  your thoughts on your local village plan\n\nWhen: Saturday 5 March 10
 am-4pm\n\nWhere: Hampton Hill Junior School\, TW12 1HW
CLASS:PUBLIC
END:VEVENT
END:VCALENDAR
