BEGIN:VCALENDAR
PRODID:-//AT Content Types//AT Event//EN
VERSION:2.0
METHOD:PUBLISH
BEGIN:VEVENT
DTSTAMP:20260425T193148Z
CREATED:20160115T164053Z
UID:ATEvent-24f1ccb3a847625d6bb7f3221513ee2a
LAST-MODIFIED:20171130T145858Z
SUMMARY:#wheresbill
DTSTART:20160519T080000Z
DTEND:20160627T160000Z
DESCRIPTION:Community Links officer Bill will be at the following loca
 tions through out May and June 2016 to get your views on Hampton Wick 
 and Teddington.\n\nWheresbill:\n\n- Thursday 19 May 1pm\, Elleray Hall
 \, singing session\n- Saturday 21 May 10am-4pm\, Elleray Hall Teddingo
 n Drop-in \n- Sunday 22 May 11am-1pm and 2pm-4pm\, Teddington Walkabou
 t (both starting outside Boots on Broad Street)\n- Wednesday 25 May 1p
 m\, Pistachios Cafe (Kingsfield Park) in Hampton Wick\, 2pm Hampton Wi
 ck Welfare Club\, Bullen Hall\n- Thursday 26 May 9.30am Teddington Lib
 rary followed by outside Boots\, 1pm Elleray Hall Quiz\n- Friday 27 Ma
 y 9.30am\, Stanley Childrens Centre - Stay and Play session\n- Tuesday
  31 May 11am Chatty Knitters at Elleray Hall\, 2pm Teddington Marks an
 d Spencers\, 4pm Teddington Pools\n- Thursday 2 June 2pm\, Teddington 
 Baptist Church parent and toddler group\, 1pm Pistachios Cafe (Kingsfi
 eld Park)\, 1:30pm Hampton Wick Library
CLASS:PUBLIC
END:VEVENT
END:VCALENDAR
