BEGIN:VCALENDAR
PRODID:-//AT Content Types//AT Event//EN
VERSION:2.0
METHOD:PUBLISH
BEGIN:VEVENT
DTSTAMP:20260425T193114Z
CREATED:20160114T225116Z
UID:ATEvent-8de572a5949df35bde0fd8d7cdb88939
LAST-MODIFIED:20171130T145857Z
SUMMARY:Teddington Drop-in\, 10am to 4pm
DTSTART:20160521T090000Z
DTEND:20160521T150000Z
DESCRIPTION:An opportunity to meet the village planning team and share
  your thoughts on your local village plan\n\nWhen: Saturday 21 May 201
 6 10:00 to 16:00\n\nWhere: Elleray Hall\, Elleray Rd\, Teddington,TW11
  0HG
CLASS:PUBLIC
END:VEVENT
END:VCALENDAR
