BEGIN:VCALENDAR
PRODID:-//AT Content Types//AT Event//EN
VERSION:2.0
METHOD:PUBLISH
BEGIN:VEVENT
DTSTAMP:20260420T095656Z
CREATED:20160115T164053Z
UID:ATEvent-56bb0d86618b1cd7a48c7db06c0fe780
LAST-MODIFIED:20171130T145834Z
SUMMARY:#wheresbill
DTSTART:20160122T100000Z
DTEND:20160122T110000Z
DESCRIPTION:Community Links officer Bill will be at the Hampton Villag
 e Cheese and Wine shop – meeting the Hampton Village Traders
CLASS:PUBLIC
END:VEVENT
END:VCALENDAR
