BEGIN:VCALENDAR
PRODID:-//AT Content Types//AT Event//EN
VERSION:2.0
METHOD:PUBLISH
BEGIN:VEVENT
DTSTAMP:20260420T112704Z
CREATED:20160115T164054Z
UID:ATEvent-fc10a7e960319225effa4a967b44af81
LAST-MODIFIED:20171130T145834Z
SUMMARY:#wheresbill
DTSTART:20160120T180000Z
DTEND:20160120T193000Z
DESCRIPTION:Community Links officer Bill will be at the Warehouse at H
 ampton Wick for the Hampton Wick Village meeting.  The meeting starts 
 at 7.00 pm
CLASS:PUBLIC
END:VEVENT
END:VCALENDAR
