BEGIN:VCALENDAR
PRODID:-//AT Content Types//AT Event//EN
VERSION:2.0
METHOD:PUBLISH
BEGIN:VEVENT
DTSTAMP:20260420T112607Z
CREATED:20160115T164053Z
UID:ATEvent-c47082f0d9776eb7eaf9425f1dad4a70
LAST-MODIFIED:20171130T145834Z
SUMMARY:#wheresbill
DTSTART:20160119T183000Z
DTEND:20160119T193000Z
DESCRIPTION:Community Links officer Bill will be at Gateway Club\, Lin
 den Centre\, Hampton
CLASS:PUBLIC
END:VEVENT
END:VCALENDAR
