BEGIN:VCALENDAR
PRODID:-//AT Content Types//AT Event//EN
VERSION:2.0
METHOD:PUBLISH
BEGIN:VEVENT
DTSTAMP:20260420T100028Z
CREATED:20160115T164053Z
UID:ATEvent-d646570a46617b32f311970a096c2934
LAST-MODIFIED:20171130T145834Z
SUMMARY:#wheresbill
DTSTART:20160122T110000Z
DTEND:20160122T120000Z
DESCRIPTION:Community Links officer Bill will be at Hampton Football C
 lub – meeting
CLASS:PUBLIC
END:VEVENT
END:VCALENDAR
