BEGIN:VCALENDAR
PRODID:-//AT Content Types//AT Event//EN
VERSION:2.0
METHOD:PUBLISH
BEGIN:VEVENT
DTSTAMP:20260420T095652Z
CREATED:20160114T225116Z
UID:ATEvent-9a83da15e85e44f88836189045b93796
LAST-MODIFIED:20171130T145834Z
SUMMARY:Hampton Walkabout 2\, 11am to 1pm
DTSTART:20160228T110000Z
DTEND:20160228T130000Z
DESCRIPTION:An opportunity to walk around your area with the village p
 lanning team and share your thoughts on your local village plan\n \nWh
 en: Sunday 28 February 2016 11am to 1pm\n\nWhere: Meeting place outsid
 e Little Waitrose\, 72 Oldfield Road\, Hampton\, TW12 2HQ  \n\n\nPleas
 e book your space on the walkabout by emailing allinone@richmond.gov.u
 k to tell us which area your would like to cover in the walkabout
CLASS:PUBLIC
END:VEVENT
END:VCALENDAR
