BEGIN:VCALENDAR
PRODID:-//AT Content Types//AT Event//EN
VERSION:2.0
METHOD:PUBLISH
BEGIN:VEVENT
DTSTAMP:20260420T095824Z
CREATED:20160114T225116Z
UID:ATEvent-fa10e5ae93e4c364bf284759ed2ce3d8
LAST-MODIFIED:20171130T145834Z
SUMMARY:Hampton Walkabout 1\, 2pm to 4pm
DTSTART:20160207T140000Z
DTEND:20160207T160000Z
DESCRIPTION:An opportunity to walk around your area with the village p
 lanning team and share your thoughts on your local village plan\n\nWhe
 n: Sunday 7 February 2016 2pm to 4pm\n\nWhere: Meeting point outside S
 ainsbury's\, Hampton Square\, TW12 3YH\n\nPlease book your space on th
 e walkabout by emailing allinone@richmond.gov.uk to tell us which area
  your would like to cover in the walkabout
CLASS:PUBLIC
END:VEVENT
END:VCALENDAR
