BEGIN:VCALENDAR
PRODID:-//AT Content Types//AT Event//EN
VERSION:2.0
METHOD:PUBLISH
BEGIN:VEVENT
DTSTAMP:20260420T095744Z
CREATED:20160114T225116Z
UID:ATEvent-b71fd681949f33835fd0f9af8c4ca3d0
LAST-MODIFIED:20171130T145834Z
SUMMARY:Hampton Walkabout 1\, 11am to 1pm
DTSTART:20160207T110000Z
DTEND:20160207T130000Z
DESCRIPTION:An opportunity to walk around your area with the village p
 lanning team and share your thoughts on your local village plan\n\nWhe
 n: Sunday 7 February 2016 11am to 1pm \n\nWhere: Meeting point outside
  Sainsbury's\, Hampton Square\, TW12 3YH\n\nPlease book your space on 
 the walkabout by emailing allinone@richmond.gov.uk to tell us which ar
 ea your would like to cover in the walkabout
CLASS:PUBLIC
END:VEVENT
END:VCALENDAR
