BEGIN:VCALENDAR
PRODID:-//AT Content Types//AT Event//EN
VERSION:2.0
METHOD:PUBLISH
BEGIN:VEVENT
DTSTAMP:20260420T113043Z
CREATED:20160114T225116Z
UID:ATEvent-abc9261ab62cce0980afce7cd6dc9bf6
LAST-MODIFIED:20171130T145834Z
SUMMARY:Hampton Walkabout 2\, 2pm to 4pm
DTSTART:20160228T140000Z
DTEND:20160228T160000Z
DESCRIPTION:An opportunity to walk around your area with the village p
 lanning team and share your thoughts on your local village plan\n\nWhe
 n: Sunday 28 February 2016 2pm to 4pm\n\nWhere: Meeting place\, outsid
 e St Mary's Community Hall Church St\, Hampton\, Middlesex TW12 2EB\n\
 nPlease book your space on the walkabout by emailing allinone@richmond
 .gov.uk to tell us which area your would like to cover in the walkabou
 t
CLASS:PUBLIC
END:VEVENT
END:VCALENDAR
