BEGIN:VCALENDAR
PRODID:-//AT Content Types//AT Event//EN
VERSION:2.0
METHOD:PUBLISH
BEGIN:VEVENT
DTSTAMP:20260420T095652Z
CREATED:20160114T225116Z
UID:ATEvent-5401a73a0e0ad5129f2eccba3fee4885
LAST-MODIFIED:20171130T145834Z
SUMMARY:Hampton Drop-in 1
DTSTART:20160206T100000Z
DTEND:20160206T160000Z
DESCRIPTION:An opportunity to meet the village planning team and share
  your thoughts on your local village plan\n\nWhen: Saturday 6 February
  2016 10am to 4pm\n\nWhere: Tangley Park Children's Centre\, TW12 3XB
CLASS:PUBLIC
END:VEVENT
END:VCALENDAR
