BEGIN:VCALENDAR
PRODID:-//AT Content Types//AT Event//EN
VERSION:2.0
METHOD:PUBLISH
BEGIN:VEVENT
DTSTAMP:20260420T095957Z
CREATED:20160114T225117Z
UID:ATEvent-fde911a93b2145b15465fb8e957ace48
LAST-MODIFIED:20171130T145834Z
SUMMARY:Hampton Drop-in 2
DTSTART:20160227T100000Z
DTEND:20160227T160000Z
DESCRIPTION:An opportunity to meet the village planning team and share
  your thoughts on your local village plan\n\nWhen: Saturday 27 Februar
 y 2016 10am to 4pm\n\nWhere: Hampton Infants School\, TW12 2JH
CLASS:PUBLIC
END:VEVENT
END:VCALENDAR
