BEGIN:VCALENDAR
PRODID:-//AT Content Types//AT Event//EN
VERSION:2.0
METHOD:PUBLISH
BEGIN:VEVENT
DTSTAMP:20260420T095416Z
CREATED:20160114T225116Z
UID:ATEvent-d70e09c2149b1fb3f691dd8326b4a891
LAST-MODIFIED:20171130T150007Z
SUMMARY:Twickenham Drop-in Event
DTSTART:20170225T100000Z
DTEND:20170225T160000Z
DESCRIPTION:An opportunity to meet the village planning team and share
  your thoughts on your local village plan.\n\nAt: Emmanuel Centre (Rad
 nor Road Entrance) Popes Grove\, Church of St James
CLASS:PUBLIC
END:VEVENT
END:VCALENDAR
