BEGIN:VCALENDAR
PRODID:-//AT Content Types//AT Event//EN
VERSION:2.0
METHOD:PUBLISH
BEGIN:VEVENT
DTSTAMP:20260420T095440Z
CREATED:20160114T225116Z
UID:ATEvent-93d6b23cfe5247bc252524f1cf67c806
LAST-MODIFIED:20171130T150007Z
SUMMARY:Twickenham Drop-in Event
DTSTART:20170304T100000Z
DTEND:20170304T160000Z
DESCRIPTION:An opportunity to meet the village planning team and share
  your thoughts on your local village plan.\n\nAt: All Hallows Church\,
  TW1 1EW
CLASS:PUBLIC
END:VEVENT
END:VCALENDAR
