BEGIN:VCALENDAR
PRODID:-//AT Content Types//AT Event//EN
VERSION:2.0
METHOD:PUBLISH
BEGIN:VEVENT
DTSTAMP:20260420T095529Z
CREATED:20170207T100405Z
UID:ATEvent-0cda02b0be64ec39c162914388c451d7
LAST-MODIFIED:20171130T150007Z
SUMMARY:Twickenham Walkabout
DTSTART:20170319T110000Z
DTEND:20170319T130000Z
DESCRIPTION:An opportunity to walk around your area with the village p
 lanning team and share your thoughts on your local village plan\n\nWal
 kabout: incl. Twickenham Green\, and roads to the west up to Fifth Cro
 ss St.\, the roads to the north of Heath Road and The Green up to Mano
 r Road\, including the River Crane and the Lincoln Ave/Selkirk Rd/Knel
 ler Gardens area.\n\nMeet at United Reform Church\, First Cross Road\,
  TW2 5QA
CLASS:PUBLIC
END:VEVENT
END:VCALENDAR
