BEGIN:VCALENDAR
PRODID:-//AT Content Types//AT Event//EN
VERSION:2.0
METHOD:PUBLISH
BEGIN:VEVENT
DTSTAMP:20260420T113007Z
CREATED:20170207T100406Z
UID:ATEvent-35086a62207b8250ea2b887e1e602ad1
LAST-MODIFIED:20171130T150007Z
SUMMARY:Twickenham Walkabout
DTSTART:20170305T140000Z
DTEND:20170305T160000Z
DESCRIPTION:An opportunity to walk around your area with the village p
 lanning team and share your thoughts on your local village plan\n\nNor
 th of Railway line incl. Richmond College\, The Stoop\, Twickenham Sta
 dium\, Whitton Rd\, Cole Park Rd and Chertsey Rd\n\nMeet at All Hallow
 s Church\, TW1 1EW
CLASS:PUBLIC
END:VEVENT
END:VCALENDAR
