BEGIN:VCALENDAR
PRODID:-//AT Content Types//AT Event//EN
VERSION:2.0
METHOD:PUBLISH
BEGIN:VEVENT
DTSTAMP:20260420T095529Z
CREATED:20170207T100406Z
UID:ATEvent-72637aeb11f0d2abf4a3286fa5325f39
LAST-MODIFIED:20171130T150007Z
SUMMARY:Twickenham Walkabout
DTSTART:20170305T110000Z
DTEND:20170305T130000Z
DESCRIPTION:An opportunity to walk around your area with the village p
 lanning team and share your thoughts on your local village plan\n\nWal
 kabout: East of Central Twickenham incl. Orleans House\, Richmond Rd\,
  Amand Park Rd\, Lebanon Park and Embankment\, and Eel Pie Island\n\nM
 eet at Orleans Park School\, TW1 3BB
CLASS:PUBLIC
END:VEVENT
END:VCALENDAR
