BEGIN:VCALENDAR
PRODID:-//AT Content Types//AT Event//EN
VERSION:2.0
METHOD:PUBLISH
BEGIN:VEVENT
DTSTAMP:20260420T095600Z
CREATED:20170207T100406Z
UID:ATEvent-955140bef0055cd6c1ee268fa26ec3b3
LAST-MODIFIED:20171130T150007Z
SUMMARY:Twickenham Walkabout
DTSTART:20170319T140000Z
DTEND:20170319T160000Z
DESCRIPTION:An opportunity to walk around your area with the village p
 lanning team and share your thoughts on your local village plan\n\nWal
 kabout: incl. Twining Ave\, Fielding Ave\, Fulwell Park area\, and the
  roads to the west of Hospital Bridge Rd incl. River Meads Ave and Gle
 be Way.\n\nMeet at The Fountain (Beefeater) Public House\, corner of S
 ixth Cross Rd and Staines Road\, TW2 5PE
CLASS:PUBLIC
END:VEVENT
END:VCALENDAR
