BEGIN:VCALENDAR
PRODID:-//AT Content Types//AT Event//EN
VERSION:2.0
METHOD:PUBLISH
BEGIN:VEVENT
DTSTAMP:20260420T112534Z
CREATED:20170207T100406Z
UID:ATEvent-58076bd08cb477a5467fd2f91e19e96e
LAST-MODIFIED:20171130T150007Z
SUMMARY:Twickenham Drop-in Event
DTSTART:20170313T180000Z
DTEND:20170313T200000Z
DESCRIPTION:An opportunity to meet the village planning team and share
  your thoughts on your local village plan.\n\nAt: Orleans Park School\
 , Tw1 3BB
CLASS:PUBLIC
END:VEVENT
END:VCALENDAR
